BEGIN:VCALENDAR
VERSION:2.0
PRODID:-//eventon.com NONSGML v1.0//EN
CALSCALE:GREGORIAN
METHOD:PUBLISH
BEGIN:VEVENT
UID:69e8865f2e2f5
DTSTAMP:20260422T082711Z
DTSTART:20260317T113000Z
DTEND:20260317T130000Z
LOCATION:Radisson Resort at the Port Cape Canaveral\,  FL 32920
SUMMARY:March Breakfast
DESCRIPTION:Speaker: Col Brian Chatman\,  Space Launch Delta 45 Commander f
 rom Patrick Space Force Base and Cape Canaveral Space Force Station\nhttps:
 //www.nscfl.org/events/march-breakfast/
URL:https://www.nscfl.org/events/march-breakfast/
END:VEVENT
END:VCALENDAR